BEGIN:VCALENDAR
VERSION:2.0
PRODID:-//CHAS Health | Doctors, Dentists, Medical Clinics &amp; Pharmacy - ECPv6.15.20//NONSGML v1.0//EN
CALSCALE:GREGORIAN
METHOD:PUBLISH
X-WR-CALNAME:CHAS Health | Doctors, Dentists, Medical Clinics &amp; Pharmacy
X-ORIGINAL-URL:https://chas.org
X-WR-CALDESC:Events for CHAS Health | Doctors, Dentists, Medical Clinics &amp; Pharmacy
REFRESH-INTERVAL;VALUE=DURATION:PT1H
X-Robots-Tag:noindex
X-PUBLISHED-TTL:PT1H
BEGIN:VTIMEZONE
TZID:America/Los_Angeles
BEGIN:DAYLIGHT
TZOFFSETFROM:-0800
TZOFFSETTO:-0700
TZNAME:PDT
DTSTART:20240310T100000
END:DAYLIGHT
BEGIN:STANDARD
TZOFFSETFROM:-0700
TZOFFSETTO:-0800
TZNAME:PST
DTSTART:20241103T090000
END:STANDARD
BEGIN:DAYLIGHT
TZOFFSETFROM:-0800
TZOFFSETTO:-0700
TZNAME:PDT
DTSTART:20250309T100000
END:DAYLIGHT
BEGIN:STANDARD
TZOFFSETFROM:-0700
TZOFFSETTO:-0800
TZNAME:PST
DTSTART:20251102T090000
END:STANDARD
BEGIN:DAYLIGHT
TZOFFSETFROM:-0800
TZOFFSETTO:-0700
TZNAME:PDT
DTSTART:20260308T100000
END:DAYLIGHT
BEGIN:STANDARD
TZOFFSETFROM:-0700
TZOFFSETTO:-0800
TZNAME:PST
DTSTART:20261101T090000
END:STANDARD
END:VTIMEZONE
BEGIN:VEVENT
DTSTART;TZID=America/Los_Angeles:20251127T160000
DTEND;TZID=America/Los_Angeles:20251127T170000
DTSTAMP:20260423T034645
CREATED:20250904T223710Z
LAST-MODIFIED:20250908T223037Z
UID:10003853-1764259200-1764262800@chas.org
SUMMARY:Art Therapy for Children | Ages 9-12
DESCRIPTION:Art Therapy for Children | Ages 9-12\nMindfulness-Based Art Therapy Skills Group\n7 Sessions\nThis group uses playful art activities to help children express emotions\, build confidence\, and learn calming strategies. Inspired by Susan I. Buchalter’s book 250 Art Therapy Techniques\, kids will explore how using simple materials like paper\, pencils\, and markers can help with self-awareness and emotional growth. CBT-based skills will be introduced to help participants understand their thoughts and feelings\, all in a mindful\, creative space designed just for them. \n\nFor ages 9-12\nCall 509.960.8894 to register\n\nFacilitator: Melanie Flores Arias\, Michelle D. Timmerman and Jaime Sparber\nLocation: Spokane Pediatrics\nDate & Time: Thursdays\, 4:00 pm
URL:https://chas.org/event/art-therapy-for-children-ages-9-12/2025-11-27/
LOCATION:Spokane Pediatrics\, 601 W 5th Ave Ste 200\, Spokane\, WA\, 99204\, United States
CATEGORIES:Behavioral Health Groups | CHAS Health
ATTACH;FMTTYPE=image/jpeg:https://chas.org/wp-content/uploads/2025/09/08-014-25-UGH-CHAS-SBHC-BH-Group_Art-Therapy_Thumbnail.jpg
ORGANIZER;CN="CHAS Health":MAILTO:communications@chas.org
END:VEVENT
BEGIN:VEVENT
DTSTART;TZID=America/Los_Angeles:20251118T160000
DTEND;TZID=America/Los_Angeles:20251118T170000
DTSTAMP:20260423T034645
CREATED:20250904T222727Z
LAST-MODIFIED:20250908T222914Z
UID:10003845-1763481600-1763485200@chas.org
SUMMARY:Art Therapy for Children | Ages 6-8
DESCRIPTION:Art Therapy for Children | Ages 6-8\nMindfulness-Based Art Therapy Skills Group\n7 Sessions\nThis group uses playful art activities to help children express emotions\, build confidence\, and learn calming strategies. Inspired by Susan I. Buchalter’s book 250 Art Therapy Techniques\, kids will explore how using simple materials like paper\, pencils\, and markers can help with self-awareness and emotional growth. CBT-based skills will be introduced to help participants understand their thoughts and feelings\, all in a mindful\, creative space designed just for them. \n\nFor ages 6-8\nCall 509.960.8894 to register\n\nFacilitator: Melanie Flores Arias\, Michelle D. Timmerman and Jaime Sparber\nLocation: Spokane Pediatrics\nDate & Time: Tuesdays\, 4:00 pm
URL:https://chas.org/event/art-therapy-for-children-ages-6-8/2025-11-18/
LOCATION:Spokane Pediatrics\, 601 W 5th Ave Ste 200\, Spokane\, WA\, 99204\, United States
CATEGORIES:Behavioral Health Groups | CHAS Health
ATTACH;FMTTYPE=image/jpeg:https://chas.org/wp-content/uploads/2025/09/08-014-25-UGH-CHAS-SBHC-BH-Group_Art-Therapy_Thumbnail.jpg
ORGANIZER;CN="CHAS Health":MAILTO:communications@chas.org
END:VEVENT
END:VCALENDAR