BEGIN:VCALENDAR
VERSION:2.0
PRODID:-//CHAS Health | Doctors, Dentists, Medical Clinics &amp; Pharmacy - ECPv6.15.20//NONSGML v1.0//EN
CALSCALE:GREGORIAN
METHOD:PUBLISH
X-WR-CALNAME:CHAS Health | Doctors, Dentists, Medical Clinics &amp; Pharmacy
X-ORIGINAL-URL:https://chas.org
X-WR-CALDESC:Events for CHAS Health | Doctors, Dentists, Medical Clinics &amp; Pharmacy
REFRESH-INTERVAL;VALUE=DURATION:PT1H
X-Robots-Tag:noindex
X-PUBLISHED-TTL:PT1H
BEGIN:VTIMEZONE
TZID:America/Los_Angeles
BEGIN:DAYLIGHT
TZOFFSETFROM:-0800
TZOFFSETTO:-0700
TZNAME:PDT
DTSTART:20250309T100000
END:DAYLIGHT
BEGIN:STANDARD
TZOFFSETFROM:-0700
TZOFFSETTO:-0800
TZNAME:PST
DTSTART:20251102T090000
END:STANDARD
BEGIN:DAYLIGHT
TZOFFSETFROM:-0800
TZOFFSETTO:-0700
TZNAME:PDT
DTSTART:20260308T100000
END:DAYLIGHT
BEGIN:STANDARD
TZOFFSETFROM:-0700
TZOFFSETTO:-0800
TZNAME:PST
DTSTART:20261101T090000
END:STANDARD
BEGIN:DAYLIGHT
TZOFFSETFROM:-0800
TZOFFSETTO:-0700
TZNAME:PDT
DTSTART:20270314T100000
END:DAYLIGHT
BEGIN:STANDARD
TZOFFSETFROM:-0700
TZOFFSETTO:-0800
TZNAME:PST
DTSTART:20271107T090000
END:STANDARD
END:VTIMEZONE
BEGIN:VEVENT
DTSTART;TZID=America/Los_Angeles:20260429T143000
DTEND;TZID=America/Los_Angeles:20260429T163000
DTSTAMP:20260425T043031
CREATED:20260424T183845Z
LAST-MODIFIED:20260424T183902Z
UID:10007307-1777473000-1777480200@chas.org
SUMMARY:Living in Balance
DESCRIPTION:Living in Balance\nSUD Recovery Group\nLiving in Balance is a recovery support group for people working toward a healthier life. Through the group\, participants learn simple\, everyday skills to help them stay on track\, manage stress\, and prevent relapse. \nThe group also supports mental health and wellness\, helping people build stability and confidence for long-term recovery. \n\nOpen to patients 18+ struggling with alcohol or other drug use\n12 Weeks\n\nFacilitator: Kim Aurand \nLocation: CBHC-North \nDate and Time: Wednesdays 2:30-4:30 pm
URL:https://chas.org/event/living-in-balance/2026-04-29/
LOCATION:CHAS Behavioral Health – North\, 5901 N. Lidgerwood St.\, Spokane\, WA\, 99208\, United States
CATEGORIES:Behavioral Health Groups | CHAS Health
ATTACH;FMTTYPE=image/jpeg:https://chas.org/wp-content/uploads/2026/04/Living-in-balance-BH-Group.jpg
ORGANIZER;CN="CHAS Health":MAILTO:communications@chas.org
END:VEVENT
BEGIN:VEVENT
DTSTART;TZID=America/Los_Angeles:20260506T143000
DTEND;TZID=America/Los_Angeles:20260506T163000
DTSTAMP:20260425T043031
CREATED:20260424T183845Z
LAST-MODIFIED:20260424T183902Z
UID:10007308-1778077800-1778085000@chas.org
SUMMARY:Living in Balance
DESCRIPTION:Living in Balance\nSUD Recovery Group\nLiving in Balance is a recovery support group for people working toward a healthier life. Through the group\, participants learn simple\, everyday skills to help them stay on track\, manage stress\, and prevent relapse. \nThe group also supports mental health and wellness\, helping people build stability and confidence for long-term recovery. \n\nOpen to patients 18+ struggling with alcohol or other drug use\n12 Weeks\n\nFacilitator: Kim Aurand \nLocation: CBHC-North \nDate and Time: Wednesdays 2:30-4:30 pm
URL:https://chas.org/event/living-in-balance/2026-05-06/
LOCATION:CHAS Behavioral Health – North\, 5901 N. Lidgerwood St.\, Spokane\, WA\, 99208\, United States
CATEGORIES:Behavioral Health Groups | CHAS Health
ATTACH;FMTTYPE=image/jpeg:https://chas.org/wp-content/uploads/2026/04/Living-in-balance-BH-Group.jpg
ORGANIZER;CN="CHAS Health":MAILTO:communications@chas.org
END:VEVENT
BEGIN:VEVENT
DTSTART;TZID=America/Los_Angeles:20260513T143000
DTEND;TZID=America/Los_Angeles:20260513T163000
DTSTAMP:20260425T043031
CREATED:20260424T183845Z
LAST-MODIFIED:20260424T183902Z
UID:10007309-1778682600-1778689800@chas.org
SUMMARY:Living in Balance
DESCRIPTION:Living in Balance\nSUD Recovery Group\nLiving in Balance is a recovery support group for people working toward a healthier life. Through the group\, participants learn simple\, everyday skills to help them stay on track\, manage stress\, and prevent relapse. \nThe group also supports mental health and wellness\, helping people build stability and confidence for long-term recovery. \n\nOpen to patients 18+ struggling with alcohol or other drug use\n12 Weeks\n\nFacilitator: Kim Aurand \nLocation: CBHC-North \nDate and Time: Wednesdays 2:30-4:30 pm
URL:https://chas.org/event/living-in-balance/2026-05-13/
LOCATION:CHAS Behavioral Health – North\, 5901 N. Lidgerwood St.\, Spokane\, WA\, 99208\, United States
CATEGORIES:Behavioral Health Groups | CHAS Health
ATTACH;FMTTYPE=image/jpeg:https://chas.org/wp-content/uploads/2026/04/Living-in-balance-BH-Group.jpg
ORGANIZER;CN="CHAS Health":MAILTO:communications@chas.org
END:VEVENT
BEGIN:VEVENT
DTSTART;TZID=America/Los_Angeles:20260520T143000
DTEND;TZID=America/Los_Angeles:20260520T163000
DTSTAMP:20260425T043031
CREATED:20260424T183845Z
LAST-MODIFIED:20260424T183902Z
UID:10007310-1779287400-1779294600@chas.org
SUMMARY:Living in Balance
DESCRIPTION:Living in Balance\nSUD Recovery Group\nLiving in Balance is a recovery support group for people working toward a healthier life. Through the group\, participants learn simple\, everyday skills to help them stay on track\, manage stress\, and prevent relapse. \nThe group also supports mental health and wellness\, helping people build stability and confidence for long-term recovery. \n\nOpen to patients 18+ struggling with alcohol or other drug use\n12 Weeks\n\nFacilitator: Kim Aurand \nLocation: CBHC-North \nDate and Time: Wednesdays 2:30-4:30 pm
URL:https://chas.org/event/living-in-balance/2026-05-20/
LOCATION:CHAS Behavioral Health – North\, 5901 N. Lidgerwood St.\, Spokane\, WA\, 99208\, United States
CATEGORIES:Behavioral Health Groups | CHAS Health
ATTACH;FMTTYPE=image/jpeg:https://chas.org/wp-content/uploads/2026/04/Living-in-balance-BH-Group.jpg
ORGANIZER;CN="CHAS Health":MAILTO:communications@chas.org
END:VEVENT
BEGIN:VEVENT
DTSTART;TZID=America/Los_Angeles:20260527T143000
DTEND;TZID=America/Los_Angeles:20260527T163000
DTSTAMP:20260425T043031
CREATED:20260424T183845Z
LAST-MODIFIED:20260424T183902Z
UID:10007311-1779892200-1779899400@chas.org
SUMMARY:Living in Balance
DESCRIPTION:Living in Balance\nSUD Recovery Group\nLiving in Balance is a recovery support group for people working toward a healthier life. Through the group\, participants learn simple\, everyday skills to help them stay on track\, manage stress\, and prevent relapse. \nThe group also supports mental health and wellness\, helping people build stability and confidence for long-term recovery. \n\nOpen to patients 18+ struggling with alcohol or other drug use\n12 Weeks\n\nFacilitator: Kim Aurand \nLocation: CBHC-North \nDate and Time: Wednesdays 2:30-4:30 pm
URL:https://chas.org/event/living-in-balance/2026-05-27/
LOCATION:CHAS Behavioral Health – North\, 5901 N. Lidgerwood St.\, Spokane\, WA\, 99208\, United States
CATEGORIES:Behavioral Health Groups | CHAS Health
ATTACH;FMTTYPE=image/jpeg:https://chas.org/wp-content/uploads/2026/04/Living-in-balance-BH-Group.jpg
ORGANIZER;CN="CHAS Health":MAILTO:communications@chas.org
END:VEVENT
BEGIN:VEVENT
DTSTART;TZID=America/Los_Angeles:20260603T143000
DTEND;TZID=America/Los_Angeles:20260603T163000
DTSTAMP:20260425T043031
CREATED:20260424T183845Z
LAST-MODIFIED:20260424T183902Z
UID:10007312-1780497000-1780504200@chas.org
SUMMARY:Living in Balance
DESCRIPTION:Living in Balance\nSUD Recovery Group\nLiving in Balance is a recovery support group for people working toward a healthier life. Through the group\, participants learn simple\, everyday skills to help them stay on track\, manage stress\, and prevent relapse. \nThe group also supports mental health and wellness\, helping people build stability and confidence for long-term recovery. \n\nOpen to patients 18+ struggling with alcohol or other drug use\n12 Weeks\n\nFacilitator: Kim Aurand \nLocation: CBHC-North \nDate and Time: Wednesdays 2:30-4:30 pm
URL:https://chas.org/event/living-in-balance/2026-06-03/
LOCATION:CHAS Behavioral Health – North\, 5901 N. Lidgerwood St.\, Spokane\, WA\, 99208\, United States
CATEGORIES:Behavioral Health Groups | CHAS Health
ATTACH;FMTTYPE=image/jpeg:https://chas.org/wp-content/uploads/2026/04/Living-in-balance-BH-Group.jpg
ORGANIZER;CN="CHAS Health":MAILTO:communications@chas.org
END:VEVENT
BEGIN:VEVENT
DTSTART;TZID=America/Los_Angeles:20260610T143000
DTEND;TZID=America/Los_Angeles:20260610T163000
DTSTAMP:20260425T043031
CREATED:20260424T183845Z
LAST-MODIFIED:20260424T183902Z
UID:10007313-1781101800-1781109000@chas.org
SUMMARY:Living in Balance
DESCRIPTION:Living in Balance\nSUD Recovery Group\nLiving in Balance is a recovery support group for people working toward a healthier life. Through the group\, participants learn simple\, everyday skills to help them stay on track\, manage stress\, and prevent relapse. \nThe group also supports mental health and wellness\, helping people build stability and confidence for long-term recovery. \n\nOpen to patients 18+ struggling with alcohol or other drug use\n12 Weeks\n\nFacilitator: Kim Aurand \nLocation: CBHC-North \nDate and Time: Wednesdays 2:30-4:30 pm
URL:https://chas.org/event/living-in-balance/2026-06-10/
LOCATION:CHAS Behavioral Health – North\, 5901 N. Lidgerwood St.\, Spokane\, WA\, 99208\, United States
CATEGORIES:Behavioral Health Groups | CHAS Health
ATTACH;FMTTYPE=image/jpeg:https://chas.org/wp-content/uploads/2026/04/Living-in-balance-BH-Group.jpg
ORGANIZER;CN="CHAS Health":MAILTO:communications@chas.org
END:VEVENT
BEGIN:VEVENT
DTSTART;TZID=America/Los_Angeles:20260617T143000
DTEND;TZID=America/Los_Angeles:20260617T163000
DTSTAMP:20260425T043031
CREATED:20260424T183845Z
LAST-MODIFIED:20260424T183902Z
UID:10007314-1781706600-1781713800@chas.org
SUMMARY:Living in Balance
DESCRIPTION:Living in Balance\nSUD Recovery Group\nLiving in Balance is a recovery support group for people working toward a healthier life. Through the group\, participants learn simple\, everyday skills to help them stay on track\, manage stress\, and prevent relapse. \nThe group also supports mental health and wellness\, helping people build stability and confidence for long-term recovery. \n\nOpen to patients 18+ struggling with alcohol or other drug use\n12 Weeks\n\nFacilitator: Kim Aurand \nLocation: CBHC-North \nDate and Time: Wednesdays 2:30-4:30 pm
URL:https://chas.org/event/living-in-balance/2026-06-17/
LOCATION:CHAS Behavioral Health – North\, 5901 N. Lidgerwood St.\, Spokane\, WA\, 99208\, United States
CATEGORIES:Behavioral Health Groups | CHAS Health
ATTACH;FMTTYPE=image/jpeg:https://chas.org/wp-content/uploads/2026/04/Living-in-balance-BH-Group.jpg
ORGANIZER;CN="CHAS Health":MAILTO:communications@chas.org
END:VEVENT
BEGIN:VEVENT
DTSTART;TZID=America/Los_Angeles:20260624T143000
DTEND;TZID=America/Los_Angeles:20260624T163000
DTSTAMP:20260425T043031
CREATED:20260424T183845Z
LAST-MODIFIED:20260424T183902Z
UID:10007315-1782311400-1782318600@chas.org
SUMMARY:Living in Balance
DESCRIPTION:Living in Balance\nSUD Recovery Group\nLiving in Balance is a recovery support group for people working toward a healthier life. Through the group\, participants learn simple\, everyday skills to help them stay on track\, manage stress\, and prevent relapse. \nThe group also supports mental health and wellness\, helping people build stability and confidence for long-term recovery. \n\nOpen to patients 18+ struggling with alcohol or other drug use\n12 Weeks\n\nFacilitator: Kim Aurand \nLocation: CBHC-North \nDate and Time: Wednesdays 2:30-4:30 pm
URL:https://chas.org/event/living-in-balance/2026-06-24/
LOCATION:CHAS Behavioral Health – North\, 5901 N. Lidgerwood St.\, Spokane\, WA\, 99208\, United States
CATEGORIES:Behavioral Health Groups | CHAS Health
ATTACH;FMTTYPE=image/jpeg:https://chas.org/wp-content/uploads/2026/04/Living-in-balance-BH-Group.jpg
ORGANIZER;CN="CHAS Health":MAILTO:communications@chas.org
END:VEVENT
BEGIN:VEVENT
DTSTART;TZID=America/Los_Angeles:20260701T143000
DTEND;TZID=America/Los_Angeles:20260701T163000
DTSTAMP:20260425T043031
CREATED:20260424T183845Z
LAST-MODIFIED:20260424T183902Z
UID:10007316-1782916200-1782923400@chas.org
SUMMARY:Living in Balance
DESCRIPTION:Living in Balance\nSUD Recovery Group\nLiving in Balance is a recovery support group for people working toward a healthier life. Through the group\, participants learn simple\, everyday skills to help them stay on track\, manage stress\, and prevent relapse. \nThe group also supports mental health and wellness\, helping people build stability and confidence for long-term recovery. \n\nOpen to patients 18+ struggling with alcohol or other drug use\n12 Weeks\n\nFacilitator: Kim Aurand \nLocation: CBHC-North \nDate and Time: Wednesdays 2:30-4:30 pm
URL:https://chas.org/event/living-in-balance/2026-07-01/
LOCATION:CHAS Behavioral Health – North\, 5901 N. Lidgerwood St.\, Spokane\, WA\, 99208\, United States
CATEGORIES:Behavioral Health Groups | CHAS Health
ATTACH;FMTTYPE=image/jpeg:https://chas.org/wp-content/uploads/2026/04/Living-in-balance-BH-Group.jpg
ORGANIZER;CN="CHAS Health":MAILTO:communications@chas.org
END:VEVENT
BEGIN:VEVENT
DTSTART;TZID=America/Los_Angeles:20260708T143000
DTEND;TZID=America/Los_Angeles:20260708T163000
DTSTAMP:20260425T043031
CREATED:20260424T183845Z
LAST-MODIFIED:20260424T183902Z
UID:10007317-1783521000-1783528200@chas.org
SUMMARY:Living in Balance
DESCRIPTION:Living in Balance\nSUD Recovery Group\nLiving in Balance is a recovery support group for people working toward a healthier life. Through the group\, participants learn simple\, everyday skills to help them stay on track\, manage stress\, and prevent relapse. \nThe group also supports mental health and wellness\, helping people build stability and confidence for long-term recovery. \n\nOpen to patients 18+ struggling with alcohol or other drug use\n12 Weeks\n\nFacilitator: Kim Aurand \nLocation: CBHC-North \nDate and Time: Wednesdays 2:30-4:30 pm
URL:https://chas.org/event/living-in-balance/2026-07-08/
LOCATION:CHAS Behavioral Health – North\, 5901 N. Lidgerwood St.\, Spokane\, WA\, 99208\, United States
CATEGORIES:Behavioral Health Groups | CHAS Health
ATTACH;FMTTYPE=image/jpeg:https://chas.org/wp-content/uploads/2026/04/Living-in-balance-BH-Group.jpg
ORGANIZER;CN="CHAS Health":MAILTO:communications@chas.org
END:VEVENT
BEGIN:VEVENT
DTSTART;TZID=America/Los_Angeles:20260715T143000
DTEND;TZID=America/Los_Angeles:20260715T163000
DTSTAMP:20260425T043031
CREATED:20260424T183845Z
LAST-MODIFIED:20260424T183902Z
UID:10007318-1784125800-1784133000@chas.org
SUMMARY:Living in Balance
DESCRIPTION:Living in Balance\nSUD Recovery Group\nLiving in Balance is a recovery support group for people working toward a healthier life. Through the group\, participants learn simple\, everyday skills to help them stay on track\, manage stress\, and prevent relapse. \nThe group also supports mental health and wellness\, helping people build stability and confidence for long-term recovery. \n\nOpen to patients 18+ struggling with alcohol or other drug use\n12 Weeks\n\nFacilitator: Kim Aurand \nLocation: CBHC-North \nDate and Time: Wednesdays 2:30-4:30 pm
URL:https://chas.org/event/living-in-balance/2026-07-15/
LOCATION:CHAS Behavioral Health – North\, 5901 N. Lidgerwood St.\, Spokane\, WA\, 99208\, United States
CATEGORIES:Behavioral Health Groups | CHAS Health
ATTACH;FMTTYPE=image/jpeg:https://chas.org/wp-content/uploads/2026/04/Living-in-balance-BH-Group.jpg
ORGANIZER;CN="CHAS Health":MAILTO:communications@chas.org
END:VEVENT
END:VCALENDAR