BEGIN:VCALENDAR
VERSION:2.0
PRODID:-//CHAS Health | Doctors, Dentists, Medical Clinics &amp; Pharmacy - ECPv6.15.20//NONSGML v1.0//EN
CALSCALE:GREGORIAN
METHOD:PUBLISH
X-WR-CALNAME:CHAS Health | Doctors, Dentists, Medical Clinics &amp; Pharmacy
X-ORIGINAL-URL:https://chas.org
X-WR-CALDESC:Events for CHAS Health | Doctors, Dentists, Medical Clinics &amp; Pharmacy
REFRESH-INTERVAL;VALUE=DURATION:PT1H
X-Robots-Tag:noindex
X-PUBLISHED-TTL:PT1H
BEGIN:VTIMEZONE
TZID:America/Los_Angeles
BEGIN:DAYLIGHT
TZOFFSETFROM:-0800
TZOFFSETTO:-0700
TZNAME:PDT
DTSTART:20250309T100000
END:DAYLIGHT
BEGIN:STANDARD
TZOFFSETFROM:-0700
TZOFFSETTO:-0800
TZNAME:PST
DTSTART:20251102T090000
END:STANDARD
BEGIN:DAYLIGHT
TZOFFSETFROM:-0800
TZOFFSETTO:-0700
TZNAME:PDT
DTSTART:20260308T100000
END:DAYLIGHT
BEGIN:STANDARD
TZOFFSETFROM:-0700
TZOFFSETTO:-0800
TZNAME:PST
DTSTART:20261101T090000
END:STANDARD
BEGIN:DAYLIGHT
TZOFFSETFROM:-0800
TZOFFSETTO:-0700
TZNAME:PDT
DTSTART:20270314T100000
END:DAYLIGHT
BEGIN:STANDARD
TZOFFSETFROM:-0700
TZOFFSETTO:-0800
TZNAME:PST
DTSTART:20271107T090000
END:STANDARD
END:VTIMEZONE
BEGIN:VEVENT
DTSTART;TZID=America/Los_Angeles:20260609T130000
DTEND;TZID=America/Los_Angeles:20260609T140000
DTSTAMP:20260425T043114
CREATED:20260420T162031Z
LAST-MODIFIED:20260420T162307Z
UID:10007043-1781010000-1781013600@chas.org
SUMMARY:Food for Life
DESCRIPTION:Food for Life\nHealthy Food Makes Cents\nEating healthy doesn’t have to be expensive. This class teaches participants how to save money at the grocery store while still enjoying tasty\, plant-based meals. You’ll learn how food choices can affect your health\, see simple cooking demonstrations\, and try easy recipes you can make at home. \nThe class focuses on budget-friendly shopping tips\, understanding how diet can prevent disease\, and how plant-based meals can lower food costs. Each session includes helpful handouts and samples of delicious dishes that show healthy eating is possible on any budget. \nStop by the clinic or call 509.462.7506 to sign up! \nFacilitators: Martha Nelson\, LICSW\, LSUDP\nLocation: Denny Murphy Clinic\nDate & Time: June 9\, 16\, 23\, 30 1:00 pm – 2:00 pm
URL:https://chas.org/event/food-for-life-3/2026-06-09/
LOCATION:Denny Murphy Clinic\, 1001 W. 2nd Ave.\, Spokane\, WA\, 99201\, United States
CATEGORIES:Behavioral Health Groups | CHAS Health
ATTACH;FMTTYPE=image/jpeg:https://chas.org/wp-content/uploads/2026/04/04-012-26-UGH-CHAS-BH-Group_Food-for-Life_Thumbnail.jpg
ORGANIZER;CN="CHAS Health":MAILTO:communications@chas.org
END:VEVENT
BEGIN:VEVENT
DTSTART;TZID=America/Los_Angeles:20260616T130000
DTEND;TZID=America/Los_Angeles:20260616T140000
DTSTAMP:20260425T043114
CREATED:20260420T162031Z
LAST-MODIFIED:20260420T162307Z
UID:10007044-1781614800-1781618400@chas.org
SUMMARY:Food for Life
DESCRIPTION:Food for Life\nHealthy Food Makes Cents\nEating healthy doesn’t have to be expensive. This class teaches participants how to save money at the grocery store while still enjoying tasty\, plant-based meals. You’ll learn how food choices can affect your health\, see simple cooking demonstrations\, and try easy recipes you can make at home. \nThe class focuses on budget-friendly shopping tips\, understanding how diet can prevent disease\, and how plant-based meals can lower food costs. Each session includes helpful handouts and samples of delicious dishes that show healthy eating is possible on any budget. \nStop by the clinic or call 509.462.7506 to sign up! \nFacilitators: Martha Nelson\, LICSW\, LSUDP\nLocation: Denny Murphy Clinic\nDate & Time: June 9\, 16\, 23\, 30 1:00 pm – 2:00 pm
URL:https://chas.org/event/food-for-life-3/2026-06-16/
LOCATION:Denny Murphy Clinic\, 1001 W. 2nd Ave.\, Spokane\, WA\, 99201\, United States
CATEGORIES:Behavioral Health Groups | CHAS Health
ATTACH;FMTTYPE=image/jpeg:https://chas.org/wp-content/uploads/2026/04/04-012-26-UGH-CHAS-BH-Group_Food-for-Life_Thumbnail.jpg
ORGANIZER;CN="CHAS Health":MAILTO:communications@chas.org
END:VEVENT
BEGIN:VEVENT
DTSTART;TZID=America/Los_Angeles:20260623T130000
DTEND;TZID=America/Los_Angeles:20260623T140000
DTSTAMP:20260425T043114
CREATED:20260420T162031Z
LAST-MODIFIED:20260420T162307Z
UID:10007045-1782219600-1782223200@chas.org
SUMMARY:Food for Life
DESCRIPTION:Food for Life\nHealthy Food Makes Cents\nEating healthy doesn’t have to be expensive. This class teaches participants how to save money at the grocery store while still enjoying tasty\, plant-based meals. You’ll learn how food choices can affect your health\, see simple cooking demonstrations\, and try easy recipes you can make at home. \nThe class focuses on budget-friendly shopping tips\, understanding how diet can prevent disease\, and how plant-based meals can lower food costs. Each session includes helpful handouts and samples of delicious dishes that show healthy eating is possible on any budget. \nStop by the clinic or call 509.462.7506 to sign up! \nFacilitators: Martha Nelson\, LICSW\, LSUDP\nLocation: Denny Murphy Clinic\nDate & Time: June 9\, 16\, 23\, 30 1:00 pm – 2:00 pm
URL:https://chas.org/event/food-for-life-3/2026-06-23/
LOCATION:Denny Murphy Clinic\, 1001 W. 2nd Ave.\, Spokane\, WA\, 99201\, United States
CATEGORIES:Behavioral Health Groups | CHAS Health
ATTACH;FMTTYPE=image/jpeg:https://chas.org/wp-content/uploads/2026/04/04-012-26-UGH-CHAS-BH-Group_Food-for-Life_Thumbnail.jpg
ORGANIZER;CN="CHAS Health":MAILTO:communications@chas.org
END:VEVENT
BEGIN:VEVENT
DTSTART;TZID=America/Los_Angeles:20260630T130000
DTEND;TZID=America/Los_Angeles:20260630T140000
DTSTAMP:20260425T043114
CREATED:20260420T162031Z
LAST-MODIFIED:20260420T162307Z
UID:10007046-1782824400-1782828000@chas.org
SUMMARY:Food for Life
DESCRIPTION:Food for Life\nHealthy Food Makes Cents\nEating healthy doesn’t have to be expensive. This class teaches participants how to save money at the grocery store while still enjoying tasty\, plant-based meals. You’ll learn how food choices can affect your health\, see simple cooking demonstrations\, and try easy recipes you can make at home. \nThe class focuses on budget-friendly shopping tips\, understanding how diet can prevent disease\, and how plant-based meals can lower food costs. Each session includes helpful handouts and samples of delicious dishes that show healthy eating is possible on any budget. \nStop by the clinic or call 509.462.7506 to sign up! \nFacilitators: Martha Nelson\, LICSW\, LSUDP\nLocation: Denny Murphy Clinic\nDate & Time: June 9\, 16\, 23\, 30 1:00 pm – 2:00 pm
URL:https://chas.org/event/food-for-life-3/2026-06-30/
LOCATION:Denny Murphy Clinic\, 1001 W. 2nd Ave.\, Spokane\, WA\, 99201\, United States
CATEGORIES:Behavioral Health Groups | CHAS Health
ATTACH;FMTTYPE=image/jpeg:https://chas.org/wp-content/uploads/2026/04/04-012-26-UGH-CHAS-BH-Group_Food-for-Life_Thumbnail.jpg
ORGANIZER;CN="CHAS Health":MAILTO:communications@chas.org
END:VEVENT
END:VCALENDAR