BEGIN:VCALENDAR
VERSION:2.0
PRODID:-//CHAS Health | Doctors, Dentists, Medical Clinics &amp; Pharmacy - ECPv6.15.20//NONSGML v1.0//EN
CALSCALE:GREGORIAN
METHOD:PUBLISH
X-WR-CALNAME:CHAS Health | Doctors, Dentists, Medical Clinics &amp; Pharmacy
X-ORIGINAL-URL:https://chas.org
X-WR-CALDESC:Events for CHAS Health | Doctors, Dentists, Medical Clinics &amp; Pharmacy
REFRESH-INTERVAL;VALUE=DURATION:PT1H
X-Robots-Tag:noindex
X-PUBLISHED-TTL:PT1H
BEGIN:VTIMEZONE
TZID:America/Los_Angeles
BEGIN:DAYLIGHT
TZOFFSETFROM:-0800
TZOFFSETTO:-0700
TZNAME:PDT
DTSTART:20240310T100000
END:DAYLIGHT
BEGIN:STANDARD
TZOFFSETFROM:-0700
TZOFFSETTO:-0800
TZNAME:PST
DTSTART:20241103T090000
END:STANDARD
BEGIN:DAYLIGHT
TZOFFSETFROM:-0800
TZOFFSETTO:-0700
TZNAME:PDT
DTSTART:20250309T100000
END:DAYLIGHT
BEGIN:STANDARD
TZOFFSETFROM:-0700
TZOFFSETTO:-0800
TZNAME:PST
DTSTART:20251102T090000
END:STANDARD
BEGIN:DAYLIGHT
TZOFFSETFROM:-0800
TZOFFSETTO:-0700
TZNAME:PDT
DTSTART:20260308T100000
END:DAYLIGHT
BEGIN:STANDARD
TZOFFSETFROM:-0700
TZOFFSETTO:-0800
TZNAME:PST
DTSTART:20261101T090000
END:STANDARD
END:VTIMEZONE
BEGIN:VEVENT
DTSTART;TZID=America/Los_Angeles:20250424T090000
DTEND;TZID=America/Los_Angeles:20250424T130000
DTSTAMP:20260424T113416
CREATED:20250328T202500Z
LAST-MODIFIED:20250328T202500Z
UID:10000906-1745485200-1745499600@chas.org
SUMMARY:Medicare Broker Tabling with Daniel Anderson (Inland Empire Insurance)
DESCRIPTION:A licences Medicare broker is available in  lobby to have your questions answered by a licensed Medicare broker from Inland Empire Insurance group.
URL:https://chas.org/event/medicare-broker-tabling-with-daniel-anderson-inland-empire-insurance-13/
LOCATION:Maple Street Clinic\, 3919 N. Maple St.\, Spokane\, WA\, 99205\, United States
CATEGORIES:Medicare Annual Election
ATTACH;FMTTYPE=image/jpeg:https://chas.org/wp-content/uploads/2021/01/Maple_Street_Exterior_Web_07.14.23.jpg
END:VEVENT
BEGIN:VEVENT
DTSTART;TZID=America/Los_Angeles:20250424T090000
DTEND;TZID=America/Los_Angeles:20250424T130000
DTSTAMP:20260424T113416
CREATED:20250328T202903Z
LAST-MODIFIED:20250328T202903Z
UID:10000912-1745485200-1745499600@chas.org
SUMMARY:​Medicare Broker Tabling Inland Empire Insurance Group Clinic Hours
DESCRIPTION:A licences Medicare broker is available in  lobby to have your questions answered by a licensed Medicare broker from Inland Empire Insurance group.
URL:https://chas.org/event/medicare-broker-tabling-inland-empire-insurance-group-clinic-hours-8/
LOCATION:Market Street Clinic\, 5921 N. Market Street\, Spokane\, WA\, 99208\, United States
CATEGORIES:Medicare Annual Election
ATTACH;FMTTYPE=image/jpeg:https://chas.org/wp-content/uploads/2021/01/Market_Street_Exterior_Web_07.14.23.jpg
END:VEVENT
BEGIN:VEVENT
DTSTART;TZID=America/Los_Angeles:20250425T100000
DTEND;TZID=America/Los_Angeles:20250425T130000
DTSTAMP:20260424T113416
CREATED:20250328T203735Z
LAST-MODIFIED:20250328T203735Z
UID:10000917-1745575200-1745586000@chas.org
SUMMARY:Medicare Broker Tabling with Inland Empire Insurance
DESCRIPTION:A licences Medicare broker is available in  lobby to have your questions answered by a licensed Medicare broker from Inland Empire Insurance group.
URL:https://chas.org/event/medicare-broker-tabling-with-inland-empire-insurance-20/
LOCATION:North Central Clinic\, 914 W. Carlisle Ave.\, Spokane\, WA\, 99205\, United States
CATEGORIES:Medicare Annual Election
ATTACH;FMTTYPE=image/jpeg:https://chas.org/wp-content/uploads/2021/01/north_central1.jpg
END:VEVENT
BEGIN:VEVENT
DTSTART;TZID=America/Los_Angeles:20250428T103000
DTEND;TZID=America/Los_Angeles:20250428T143000
DTSTAMP:20260424T113417
CREATED:20250328T201610Z
LAST-MODIFIED:20250328T201610Z
UID:10000902-1745836200-1745850600@chas.org
SUMMARY:​Medicare Broker Tabling Inland Empire Insurance Group Clinic Hours
DESCRIPTION:A licences Medicare broker is available in  lobby to have your questions answered by a licensed Medicare broker from Inland Empire Insurance group.
URL:https://chas.org/event/medicare-broker-tabling-inland-empire-insurance-group-clinic-hours-3/
LOCATION:Market Street Clinic\, 5921 N. Market Street\, Spokane\, WA\, 99208\, United States
CATEGORIES:Medicare Annual Election
ATTACH;FMTTYPE=image/jpeg:https://chas.org/wp-content/uploads/2021/01/Market_Street_Exterior_Web_07.14.23.jpg
END:VEVENT
BEGIN:VEVENT
DTSTART;TZID=America/Los_Angeles:20250429T100000
DTEND;TZID=America/Los_Angeles:20250429T140000
DTSTAMP:20260424T113417
CREATED:20250328T181049Z
LAST-MODIFIED:20250328T181049Z
UID:10000881-1745920800-1745935200@chas.org
SUMMARY:Medicare Broker Tabling with Inland Empire Insurance
DESCRIPTION:A licences Medicare broker is available in  lobby to have your questions answered by a licensed Medicare broker from Inland Empire Insurance group.
URL:https://chas.org/event/medicare-broker-tabling-with-inland-empire-insurance-4/
LOCATION:North County Clinic\, 401 S. Main St.\, Deer Park\, WA\, 99006\, United States
CATEGORIES:Medicare Annual Election
ATTACH;FMTTYPE=image/jpeg:https://chas.org/wp-content/uploads/2021/01/Deer_Park_Exterior_Update-4.jpg
END:VEVENT
BEGIN:VEVENT
DTSTART;TZID=America/Los_Angeles:20250429T100000
DTEND;TZID=America/Los_Angeles:20250429T143000
DTSTAMP:20260424T113417
CREATED:20250328T175616Z
LAST-MODIFIED:20250328T175616Z
UID:10000877-1745920800-1745937000@chas.org
SUMMARY:Medicare Broker Tabling with Daniel Anderson (Inland Empire Insurance)
DESCRIPTION:A licences Medicare broker is available in  lobby to have your questions answered by a licensed Medicare broker from Inland Empire Insurance group.
URL:https://chas.org/event/medicare-broker-tabling-with-daniel-anderson-inland-empire-insurance-5/
LOCATION:Valley Clinic\, 15812 E. Indiana Ave.\, Spokane\, WA\, 99216\, United States
CATEGORIES:Medicare Annual Election
ATTACH;FMTTYPE=image/jpeg:https://chas.org/wp-content/uploads/2024/04/Valley-Clinic-resized.jpg
END:VEVENT
BEGIN:VEVENT
DTSTART;TZID=America/Los_Angeles:20250429T130000
DTEND;TZID=America/Los_Angeles:20250429T140000
DTSTAMP:20260424T113417
CREATED:20250423T222911Z
LAST-MODIFIED:20250430T180530Z
UID:10000919-1745931600-1745935200@chas.org
SUMMARY:Safety\, Emotions\, Loss\, and Future (S.E.L.F.)
DESCRIPTION:Safety\, Emotions\, Loss\, and Future (S.E.L.F.)\nGetting better control over oneself.\nA Trauma-Informed Psychoeducational Group\nS.E.L.F. represents the four main areas that are essential for recovery. These areas help organize and manage the complex challenges faced by individuals who have experienced trauma\, families dealing with issues\, and organizations under constant stress. Materials will be provided. \nOpen to all CHAS Health patients ages 18+\, up to 10 participants at a time. No referral needed; patients may self-refer and schedule. \nFacilitator: Martha Nelson\, LICSW\, LSUDP\nLocation: Denny Murphy Clinic Boardroom\nDate & Time: Tuesdays\, 1:00 – 2:00 pm \n 
URL:https://chas.org/event/safety-emotions-loss-and-future-s-e-l-f/
LOCATION:Denny Murphy Clinic Boardroom\, 1001 W. 2nd Ave.\, Spokane\, WA\, 99201\, United States
CATEGORIES:Behavioral Health Groups | CHAS Health
ATTACH;FMTTYPE=image/jpeg:https://chas.org/wp-content/uploads/2025/04/BH-Group-SELF-Trauma_Thumbnail.jpg
ORGANIZER;CN="CHAS Health":MAILTO:communications@chas.org
END:VEVENT
BEGIN:VEVENT
DTSTART;TZID=America/Los_Angeles:20250430T093000
DTEND;TZID=America/Los_Angeles:20250430T123000
DTSTAMP:20260424T113417
CREATED:20250328T181601Z
LAST-MODIFIED:20250328T181601Z
UID:10000886-1746005400-1746016200@chas.org
SUMMARY:Medicare Broker Tabling with Inland Empire Insurance
DESCRIPTION:A licences Medicare broker is available in  lobby to have your questions answered by a licensed Medicare broker from Inland Empire Insurance group.
URL:https://chas.org/event/medicare-broker-tabling-with-inland-empire-insurance-8/
LOCATION:Parkside Clinic\, 3002 E. Mission Ave.\, Spokane\, WA\, 99202\, United States
CATEGORIES:Medicare Annual Election
ATTACH;FMTTYPE=image/jpeg:https://chas.org/wp-content/uploads/2024/04/parside.jpg
END:VEVENT
BEGIN:VEVENT
DTSTART;TZID=America/Los_Angeles:20250430T100000
DTEND;TZID=America/Los_Angeles:20250430T140000
DTSTAMP:20260424T113417
CREATED:20250328T182205Z
LAST-MODIFIED:20250328T182234Z
UID:10000890-1746007200-1746021600@chas.org
SUMMARY:Medicare Broker Tabling with Daniel Anderson (Inland Empire Insurance)
DESCRIPTION:A licences Medicare broker is available in  lobby to have your questions answered by a licensed Medicare broker from Inland Empire Insurance group.
URL:https://chas.org/event/medicare-broker-tabling-with-daniel-anderson-inland-empire-insurance-9/
LOCATION:Maple Street Clinic\, 3919 N. Maple St.\, Spokane\, WA\, 99205\, United States
CATEGORIES:Medicare Annual Election
ATTACH;FMTTYPE=image/jpeg:https://chas.org/wp-content/uploads/2021/01/maple-street-clinic-og.jpg
END:VEVENT
BEGIN:VEVENT
DTSTART;TZID=America/Los_Angeles:20250430T103000
DTEND;TZID=America/Los_Angeles:20250430T143000
DTSTAMP:20260424T113417
CREATED:20250328T183204Z
LAST-MODIFIED:20250328T183204Z
UID:10000895-1746009000-1746023400@chas.org
SUMMARY:Medicare Broker Tabling with Inland Empire Insurance
DESCRIPTION:A licences Medicare broker is available in  lobby to have your questions answered by a licensed Medicare broker from Inland Empire Insurance group.
URL:https://chas.org/event/medicare-broker-tabling-with-inland-empire-insurance-12/
LOCATION:Valley Clinic\, 15812 E. Indiana Ave.\, Spokane\, WA\, 99216\, United States
CATEGORIES:Medicare Annual Election
ATTACH;FMTTYPE=image/jpeg:https://chas.org/wp-content/uploads/2024/04/Valley-Clinic-resized.jpg
END:VEVENT
BEGIN:VEVENT
DTSTART;TZID=America/Los_Angeles:20250430T130000
DTEND;TZID=America/Los_Angeles:20250430T160000
DTSTAMP:20260424T113417
CREATED:20250328T201039Z
LAST-MODIFIED:20250328T201039Z
UID:10000899-1746018000-1746028800@chas.org
SUMMARY:Medicare Broker Tabling with Inland Empire Insurance
DESCRIPTION:A licences Medicare broker is available in  lobby to have your questions answered by a licensed Medicare broker from Inland Empire Insurance group.
URL:https://chas.org/event/medicare-broker-tabling-with-inland-empire-insurance-16/
LOCATION:CHAS Health Perry Street Clinic\, 817 S. Perry St. Suite B Spokane\, WA 99202\, Spokane\, 99202\, United States
CATEGORIES:Medicare Annual Election
ATTACH;FMTTYPE=image/jpeg:https://chas.org/wp-content/uploads/2024/04/Perry-Street-Clinic-resized.jpg
END:VEVENT
BEGIN:VEVENT
DTSTART;TZID=America/Los_Angeles:20250501T090000
DTEND;TZID=America/Los_Angeles:20250501T130000
DTSTAMP:20260424T113417
CREATED:20250328T202532Z
LAST-MODIFIED:20250328T202532Z
UID:10000907-1746090000-1746104400@chas.org
SUMMARY:Medicare Broker Tabling with Daniel Anderson (Inland Empire Insurance)
DESCRIPTION:A licences Medicare broker is available in  lobby to have your questions answered by a licensed Medicare broker from Inland Empire Insurance group.
URL:https://chas.org/event/medicare-broker-tabling-with-daniel-anderson-inland-empire-insurance-14/
LOCATION:Maple Street Clinic\, 3919 N. Maple St.\, Spokane\, WA\, 99205\, United States
CATEGORIES:Medicare Annual Election
ATTACH;FMTTYPE=image/jpeg:https://chas.org/wp-content/uploads/2021/01/Maple_Street_Exterior_Web_07.14.23.jpg
END:VEVENT
BEGIN:VEVENT
DTSTART;TZID=America/Los_Angeles:20250501T090000
DTEND;TZID=America/Los_Angeles:20250501T130000
DTSTAMP:20260424T113417
CREATED:20250328T203331Z
LAST-MODIFIED:20250328T203331Z
UID:10000913-1746090000-1746104400@chas.org
SUMMARY:​Medicare Broker Tabling Inland Empire Insurance Group Clinic Hours
DESCRIPTION:A licences Medicare broker is available in  lobby to have your questions answered by a licensed Medicare broker from Inland Empire Insurance group.
URL:https://chas.org/event/medicare-broker-tabling-inland-empire-insurance-group-clinic-hours-9/
LOCATION:Market Street Clinic\, 5921 N. Market Street\, Spokane\, WA\, 99208\, United States
CATEGORIES:Medicare Annual Election
ATTACH;FMTTYPE=image/jpeg:https://chas.org/wp-content/uploads/2021/01/Market_Street_Exterior_Web_07.14.23.jpg
END:VEVENT
BEGIN:VEVENT
DTSTART;TZID=America/Los_Angeles:20250502T100000
DTEND;TZID=America/Los_Angeles:20250502T130000
DTSTAMP:20260424T113417
CREATED:20250328T203850Z
LAST-MODIFIED:20250328T203906Z
UID:10000918-1746180000-1746190800@chas.org
SUMMARY:Medicare Broker Tabling with Inland Empire Insurance
DESCRIPTION:A licences Medicare broker is available in  lobby to have your questions answered by a licensed Medicare broker from Inland Empire Insurance group.
URL:https://chas.org/event/medicare-broker-tabling-with-inland-empire-insurance-21/
LOCATION:North Central Clinic\, 914 W. Carlisle Ave.\, Spokane\, WA\, 99205\, United States
CATEGORIES:Medicare Annual Election
ATTACH;FMTTYPE=image/jpeg:https://chas.org/wp-content/uploads/2021/01/north_central1.jpg
END:VEVENT
BEGIN:VEVENT
DTSTART;TZID=America/Los_Angeles:20250509T130000
DTEND;TZID=America/Los_Angeles:20250509T143000
DTSTAMP:20260424T113417
CREATED:20250509T191942Z
LAST-MODIFIED:20250908T222457Z
UID:10001025-1746795600-1746801000@chas.org
SUMMARY:The Four Agreements Book Series
DESCRIPTION:The Four Agreements Book Series\nA Practical Guide to Personal Freedom\nPsychotherapy Group Sessions\nDon Miguel Ruiz reveals the source of selflimiting beliefs that rob us of joy and create needless suffering. Based on ancient Toltec wisdom\, Miguel Ruiz’s series offers a powerful code of conduct that can rapidly transform our lives to a new experience of freedom\, true happiness\, and love. \nOpen to CHAS Health patients ages 18+\, up to 15 participants at a time. \nFacilitator: Jaime Sparber\, LMHC\nLocation: Maple Street Clinic\nDate & Time: Fridays\, 1:00 – 2:30 pm
URL:https://chas.org/event/the-four-agreements-book-series/2025-05-09/
LOCATION:Denny Murphy Clinic Boardroom\, 1001 W. 2nd Ave.\, Spokane\, WA\, 99201\, United States
CATEGORIES:Behavioral Health Groups | CHAS Health
ATTACH;FMTTYPE=image/jpeg:https://chas.org/wp-content/uploads/2025/04/BH-Group-The-Four-Agreements_Thumbnail.jpg
ORGANIZER;CN="CHAS Health":MAILTO:communications@chas.org
END:VEVENT
BEGIN:VEVENT
DTSTART;TZID=America/Los_Angeles:20250516T153000
DTEND;TZID=America/Los_Angeles:20250516T170000
DTSTAMP:20260424T113417
CREATED:20250430T184600Z
LAST-MODIFIED:20250908T222615Z
UID:10000931-1747409400-1747414800@chas.org
SUMMARY:Creative & Practical Art Therapy Techniques Skills Group for Kids
DESCRIPTION:Creative & Practical Art Therapy Techniques Skills Group for Kids\nMindfulness-Based Art Therapy Activities for Kids\nArt therapy groups can help facilitate the therapeutic healing process by exploring artistic expression and discovering coping skills. Using Susan I. Buchalter’s book 250 Brief\, Creative & Practical Art Therapy Techniques as our guide\, we will learn together how to build self-esteem\, self -awareness\, and success through artistic expression and communication. \nOpen to CHAS Health patients ages 9-12 years old \nFacilitator: Katharine Dickinson\, LICSW\nLocation: Maple Street Clinic\nDate & Time: Third Friday of the Month\, 3:30 – 5:00 pm
URL:https://chas.org/event/creative-practical-art-therapy-techniques-skills-group-for-kids/2025-05-16/
LOCATION:Maple Street Clinic\, 3919 N. Maple St.\, Spokane\, WA\, 99205\, United States
CATEGORIES:Behavioral Health Groups | CHAS Health
ATTACH;FMTTYPE=image/jpeg:https://chas.org/wp-content/uploads/2025/04/BH-Group-Art-Therapy-Techniques-Skills_Kids_Thumbnail.jpg
ORGANIZER;CN="CHAS Health":MAILTO:communications@chas.org
END:VEVENT
BEGIN:VEVENT
DTSTART;TZID=America/Los_Angeles:20250520T130000
DTEND;TZID=America/Los_Angeles:20250520T160000
DTSTAMP:20260424T113417
CREATED:20250508T231450Z
LAST-MODIFIED:20250508T231750Z
UID:10000938-1747746000-1747756800@chas.org
SUMMARY:CHAS Health Mobile Clinic at Spokane Valley Library
DESCRIPTION:The CHAS Health mobile clinic will visit the Spokane Valley Library located at 22 N. Herald Rd Spokane Valley. \n22 N Herald Rd\nSpokane Valley\, WA 99206
URL:https://chas.org/event/chas-health-mobile-clinic-at-spokane-valley-library/
LOCATION:Spokane Valley Library\, 22 N Herald Rd\, Spokane Valley\, WA\, 99206\, United States
CATEGORIES:Community Event,Mobile Clinic
END:VEVENT
BEGIN:VEVENT
DTSTART;TZID=America/Los_Angeles:20250522T123000
DTEND;TZID=America/Los_Angeles:20250522T163000
DTSTAMP:20260424T113417
CREATED:20250516T225639Z
LAST-MODIFIED:20250516T225639Z
UID:10001287-1747917000-1747931400@chas.org
SUMMARY:Spokane Valley Connect
DESCRIPTION:A Free community services event designed to offer practical help to Spokane Valley Families! \n 
URL:https://chas.org/event/spokane-valley-connect/2025-05-22/2/
LOCATION:Opportunity Presbyterian Church\, 202 N Pines Rd\, Spokane Valley\, WA\, 99206\, United States
CATEGORIES:Community Event,Mobile Clinic
ATTACH;FMTTYPE=image/jpeg:https://chas.org/wp-content/uploads/2024/04/mobile-clinic-wide-6.jpg
GEO:47.65979;-117.23923
X-APPLE-STRUCTURED-LOCATION;VALUE=URI;X-ADDRESS=Opportunity Presbyterian Church 202 N Pines Rd Spokane Valley WA 99206 United States;X-APPLE-RADIUS=500;X-TITLE=202 N Pines Rd:geo:-117.23923,47.65979
END:VEVENT
BEGIN:VEVENT
DTSTART;TZID=America/Los_Angeles:20250527T150000
DTEND;TZID=America/Los_Angeles:20250527T180000
DTSTAMP:20260424T113417
CREATED:20250519T215853Z
LAST-MODIFIED:20250519T215853Z
UID:10001291-1748358000-1748368800@chas.org
SUMMARY:CHAS Health Mobile Clinic at Family Promises
DESCRIPTION:The CHAS Health Mobile Clinic will be at Family Promises from 3:00 pm-6:00 pm
URL:https://chas.org/event/chas-health-mobile-clinic-at-family-promises/
LOCATION:Family Promise\, 2002 E Mission Ave\, Spokane\, Washington\, 99202
ATTACH;FMTTYPE=image/jpeg:https://chas.org/wp-content/uploads/2024/04/mobile-clinic-wide-6.jpg
END:VEVENT
BEGIN:VEVENT
DTSTART;TZID=America/Los_Angeles:20250603T130000
DTEND;TZID=America/Los_Angeles:20250603T140000
DTSTAMP:20260424T113417
CREATED:20250530T191557Z
LAST-MODIFIED:20250530T191557Z
UID:10001825-1748955600-1748959200@chas.org
SUMMARY:Cognitive Behavioral Therapy for Insomnia
DESCRIPTION:Cognitive Behavioral Therapy for Insomnia\nCBT-I Behavioral Health Group\nBegin the New Year with Better Sleep\nSleep is vital to life\, but trouble sleeping is one of the top conditions seen in primary care. Cognitive behavioral therapy for insomnia (CBT-I) is a short\, structured\, and evidence-based approach to combating the frustrating symptoms of insomnia. CBT-I is a great first-line treatment\, often recommended over medication. \n\nOpen to CHAS Health patients ages 18+\nLimited to the first 12 Participants\n4 Sessions\n\nFacilitator: Martha Nelson\, LICSW\, LSUDP & Autumn Shkuratoff\nLocation: Maple Street Clinic Boardroom\nDate & Time: Tuesdays\, 1:00 – 2:00 pm
URL:https://chas.org/event/cognitive-behavioral-therapy-for-insomnia/2025-06-03/
LOCATION:Maple Street Clinic\, 3919 N. Maple St.\, Spokane\, WA\, 99205\, United States
CATEGORIES:Behavioral Health Groups | CHAS Health
ATTACH;FMTTYPE=image/jpeg:https://chas.org/wp-content/uploads/2025/05/CBT-insomnia-bh-group-thumbnail.jpg
ORGANIZER;CN="CHAS Health":MAILTO:communications@chas.org
END:VEVENT
BEGIN:VEVENT
DTSTART;TZID=America/Los_Angeles:20250606T153000
DTEND;TZID=America/Los_Angeles:20250606T170000
DTSTAMP:20260424T113417
CREATED:20250430T183302Z
LAST-MODIFIED:20250908T222812Z
UID:10000927-1749223800-1749229200@chas.org
SUMMARY:Creative & Practical Art Therapy Techniques Skills Group for Teens
DESCRIPTION:Creative & Practical Art Therapy Techniques Skills Group for Teens\nMindfulness-Based Art Therapy Activities for Teens\nArt therapy groups can help facilitate the therapeutic healing process by exploring artistic expression and discovering coping skills. Using Susan I. Buchalter’s book 250 Brief\, Creative & Practical Art Therapy Techniques as our guide\, we will learn together how to build self-esteem\, self -awareness\, and success through artistic expression and communication. \nOpen to CHAS Health patients ages 13-17 years old. \nFacilitator: Katharine Dickinson\, LICSW\nLocation: Maple Street Clinic\nDate & Time: First Friday of the Month\, 3:30 – 5:00 pm
URL:https://chas.org/event/creative-practical-art-therapy-techniques-skills-group-for-teens-2/2025-06-06/
LOCATION:Maple Street Clinic\, 3919 N. Maple St.\, Spokane\, WA\, 99205\, United States
CATEGORIES:Behavioral Health Groups | CHAS Health
ATTACH;FMTTYPE=image/jpeg:https://chas.org/wp-content/uploads/2025/04/BH-Group-Art-Therapy-Techniques-Skills_Teens_Thumbnail.jpg
ORGANIZER;CN="CHAS Health":MAILTO:communications@chas.org
END:VEVENT
BEGIN:VEVENT
DTSTART;TZID=America/Los_Angeles:20250610T100000
DTEND;TZID=America/Los_Angeles:20250610T150000
DTSTAMP:20260424T113417
CREATED:20250519T214629Z
LAST-MODIFIED:20250606T230605Z
UID:10001290-1749549600-1749567600@chas.org
SUMMARY:CHAS Health Mobile Clinic at Camas Downtown
DESCRIPTION:The CHAS Health Mobile Clinic will be at Camas Downtown from 10:00 am- 3:00 pm.
URL:https://chas.org/event/chas-health-mobile-clinic-at-camas-downtown/
LOCATION:Camas Downtown\, 19 W Pacific\, Spokane\, Washington\, 99201
CATEGORIES:Mobile Clinic
ATTACH;FMTTYPE=image/jpeg:https://chas.org/wp-content/uploads/2024/04/mobile-clinic-wide-6.jpg
END:VEVENT
BEGIN:VEVENT
DTSTART;TZID=America/Los_Angeles:20250615T100000
DTEND;TZID=America/Los_Angeles:20250615T190000
DTSTAMP:20260424T113417
CREATED:20240606T172345Z
LAST-MODIFIED:20250606T224539Z
UID:10000523-1749981600-1750014000@chas.org
SUMMARY:CHAS Health Mobile Clinic at Spokane Pride Parade & Festival
DESCRIPTION:CHAS Health will provide first-aid at the Spokane Pride Parade & Festival\n\n\nRiverfront Park\n507 N Howard St\nSpokane\, WA 99201
URL:https://chas.org/event/spokane-pride-parade-festival-2/
LOCATION:Riverfront Park\, 507 N Howard Street\, Spokane\, WA\, 99201\, United States
CATEGORIES:Community Event,Community Outreach,Mobile Clinic,Street Fair
ATTACH;FMTTYPE=image/jpeg:https://chas.org/wp-content/uploads/2024/04/mobile-clinic-wide-6.jpg
END:VEVENT
BEGIN:VEVENT
DTSTART;TZID=America/Los_Angeles:20250616T130000
DTEND;TZID=America/Los_Angeles:20250616T150000
DTSTAMP:20260424T113417
CREATED:20250610T202229Z
LAST-MODIFIED:20250908T213037Z
UID:10001849-1750078800-1750086000@chas.org
SUMMARY:Building a Life Worth Living
DESCRIPTION:Building a Life Worth Living\nDialectical Behavioral Therapy Group\nDialectical Behavior Therapy (DBT) is designed to help individuals manage intense emotions\, improve relationships\, and develop healthy coping mechanisms. It combines acceptance and change strategies to teach skills in four key areas. DBT is particularly effective for individuals with borderline personality disorder\, self-harm behaviors\, and chronic emotional difficulties. \nEnrollment is always open and available \nFacilitators: Mirna Fakhouri\nLocation: CBHC-North\nDate & Time: Mondays\, 1:00 – 3:00 pm
URL:https://chas.org/event/building-a-life-worth-living/2025-06-16/
LOCATION:CHAS Behavioral Health – North\, 5901 N. Lidgerwood St.\, Spokane\, WA\, 99208\, United States
CATEGORIES:Behavioral Health Groups | CHAS Health
ATTACH;FMTTYPE=image/jpeg:https://chas.org/wp-content/uploads/2025/06/Building-a-Life-Worth-Living-bh-group-Thumbnail.jpg
ORGANIZER;CN="CHAS Health":MAILTO:communications@chas.org
END:VEVENT
BEGIN:VEVENT
DTSTART;TZID=America/Los_Angeles:20250617T130000
DTEND;TZID=America/Los_Angeles:20250617T160000
DTSTAMP:20260424T113417
CREATED:20250606T224741Z
LAST-MODIFIED:20250606T225740Z
UID:10001847-1750165200-1750176000@chas.org
SUMMARY:CHAS Health Mobile Clinic at Spokane Valley Library
DESCRIPTION:The CHAS Health mobile clinic will visit the Spokane Valley Library located at 22 N. Herald Rd Spokane Valley. \n22 N Herald Rd\nSpokane Valley\, WA 99206
URL:https://chas.org/event/chas-health-mobile-clinic-at-spokane-valley-library-2/
LOCATION:Spokane Valley Library\, 22 N Herald Rd\, Spokane Valley\, WA\, 99206\, United States
CATEGORIES:Community Event,Mobile Clinic
ATTACH;FMTTYPE=image/jpeg:https://chas.org/wp-content/uploads/2024/04/mobile-clinic-wide-6.jpg
END:VEVENT
BEGIN:VEVENT
DTSTART;TZID=America/Los_Angeles:20250618T110000
DTEND;TZID=America/Los_Angeles:20250618T150000
DTSTAMP:20260424T113417
CREATED:20250509T151930Z
LAST-MODIFIED:20250606T222832Z
UID:10001845-1750244400-1750258800@chas.org
SUMMARY:CHAS Health mobile clinic at the MLK Jr. Center
DESCRIPTION:The CHAS Health mobile clinic will visit the MLK Jr. Center located at 500 S. Stone Street Spokane\, WA.
URL:https://chas.org/event/chas-health-mobile-clinic-at-the-mlk-jr-center/
LOCATION:Dr. Martin Luther King Jr. Community Center\, 500 S Stone St\, Spokane\, WA\, 99202\, United States
CATEGORIES:Mobile Clinic
END:VEVENT
BEGIN:VEVENT
DTSTART;TZID=America/Los_Angeles:20250621T100000
DTEND;TZID=America/Los_Angeles:20250621T160000
DTSTAMP:20260424T113417
CREATED:20250606T224004Z
LAST-MODIFIED:20250606T224004Z
UID:10001846-1750500000-1750521600@chas.org
SUMMARY:Filipino-American Friendship Day
DESCRIPTION:CHAS Health will provide first-aid at the Filipino-American Friendship Day at Riverfront Park on June 21
URL:https://chas.org/event/filipino-american-friendship-day/
LOCATION:Riverfront Park\, 507 N Howard Street\, Spokane\, WA\, 99201\, United States
CATEGORIES:Community Event,Mobile Clinic
END:VEVENT
BEGIN:VEVENT
DTSTART;TZID=America/Los_Angeles:20250623T100000
DTEND;TZID=America/Los_Angeles:20250623T120000
DTSTAMP:20260424T113417
CREATED:20250604T192731Z
LAST-MODIFIED:20250604T192731Z
UID:10001829-1750672800-1750680000@chas.org
SUMMARY:Circle of Security
DESCRIPTION:Circle of Security\nParenting Program\nCircle of Security is a visual tool designed to help caregivers understand and respond to their child’s attachment needs\, fostering secure attachments and emphasizing that all parents are “good enough.” The program offers a new perspective on parenting\, focusing on building positive relationships rather than using correction or discipline. \nThis group aims to help caregivers reflect on their actions and meet their children’s needs\, with facilitators trained to support caregivers through their struggles and histories of trauma. Based on principles that highlight the importance of secure attachments\, Circle of Security aims to prevent future psychopathology\, promote social competence\, and enhance emotional regulation. \nOpen to CHAS Health parents of any age. \nFacilitator: Katharine Dickinson\, LICSW and Theresa Allen\nLocation: Maple Street Clinic\nDate & Time: Mondays\, 10:00 am – 12:00 pm
URL:https://chas.org/event/circle-of-security/2025-06-23/
LOCATION:Maple Street Clinic\, 3919 N. Maple St.\, Spokane\, WA\, 99205\, United States
CATEGORIES:Behavioral Health Groups | CHAS Health
ATTACH;FMTTYPE=image/jpeg:https://chas.org/wp-content/uploads/2025/06/06-001-25-UGH-CHAS-BH-Group-Circle-of-Security_Maple_Thumbnail.jpg
ORGANIZER;CN="CHAS Health":MAILTO:communications@chas.org
END:VEVENT
BEGIN:VEVENT
DTSTART;TZID=America/Los_Angeles:20250624T100000
DTEND;TZID=America/Los_Angeles:20250624T150000
DTSTAMP:20260424T113417
CREATED:20250606T230417Z
LAST-MODIFIED:20250606T230417Z
UID:10001848-1750759200-1750777200@chas.org
SUMMARY:CHAS Health Mobile Clinic at Camas Downtown
DESCRIPTION:The CHAS Health Mobile Clinic will be at Camas Downtown from 10:00 am- 3:00 pm.
URL:https://chas.org/event/chas-health-mobile-clinic-at-camas-downtown-2/
LOCATION:Camas Downtown\, 19 W Pacific\, Spokane\, Washington\, 99201
CATEGORIES:Mobile Clinic
ATTACH;FMTTYPE=image/jpeg:https://chas.org/wp-content/uploads/2024/04/mobile-clinic-wide-6.jpg
END:VEVENT
BEGIN:VEVENT
DTSTART;TZID=America/Los_Angeles:20250628T110000
DTEND;TZID=America/Los_Angeles:20250628T150000
DTSTAMP:20260424T113417
CREATED:20250508T185537Z
LAST-MODIFIED:20250606T222659Z
UID:10000937-1751108400-1751122800@chas.org
SUMMARY:El Mercadito
DESCRIPTION:  \n  \nEl Mercadito is a monthly cultural market that:• Provides free fresh foods to the community (food bank)• Offers medical services and resources through the CHAS mobile clinic• Cultural activities• Explore and shop with local Artisan vendors• Music & entertainment \n 
URL:https://chas.org/event/el-mercadito-3/
LOCATION:Liberty Park\, 1300 E. 5th Ave\, Spokane\, WA\, 99202\, United States
CATEGORIES:Community Event,Community Outreach,Mobile Clinic,Street Fair
ORGANIZER;CN="Latinos en Spokane":MAILTO:info@latinosenspokane.org
END:VEVENT
END:VCALENDAR